BEGIN:VCALENDAR
VERSION:2.0
PRODID:-//Bischofswerdaer Wanderverein e.V. - ECPv6.15.12.2//NONSGML v1.0//EN
CALSCALE:GREGORIAN
METHOD:PUBLISH
X-WR-CALNAME:Bischofswerdaer Wanderverein e.V.
X-ORIGINAL-URL:https://www.bischofswerdaer-wanderverein.de
X-WR-CALDESC:Veranstaltungen für Bischofswerdaer Wanderverein e.V.
REFRESH-INTERVAL;VALUE=DURATION:PT1H
X-Robots-Tag:noindex
X-PUBLISHED-TTL:PT1H
BEGIN:VTIMEZONE
TZID:Europe/Berlin
BEGIN:DAYLIGHT
TZOFFSETFROM:+0100
TZOFFSETTO:+0200
TZNAME:CEST
DTSTART:20240331T010000
END:DAYLIGHT
BEGIN:STANDARD
TZOFFSETFROM:+0200
TZOFFSETTO:+0100
TZNAME:CET
DTSTART:20241027T010000
END:STANDARD
BEGIN:DAYLIGHT
TZOFFSETFROM:+0100
TZOFFSETTO:+0200
TZNAME:CEST
DTSTART:20250330T010000
END:DAYLIGHT
BEGIN:STANDARD
TZOFFSETFROM:+0200
TZOFFSETTO:+0100
TZNAME:CET
DTSTART:20251026T010000
END:STANDARD
BEGIN:DAYLIGHT
TZOFFSETFROM:+0100
TZOFFSETTO:+0200
TZNAME:CEST
DTSTART:20260329T010000
END:DAYLIGHT
BEGIN:STANDARD
TZOFFSETFROM:+0200
TZOFFSETTO:+0100
TZNAME:CET
DTSTART:20261025T010000
END:STANDARD
END:VTIMEZONE
BEGIN:VEVENT
DTSTART;VALUE=DATE:20250712
DTEND;VALUE=DATE:20250713
DTSTAMP:20260420T070612
CREATED:20250625T133916Z
LAST-MODIFIED:20250625T133916Z
UID:3072-1752278400-1752364799@www.bischofswerdaer-wanderverein.de
SUMMARY:Rund um den Dürrröhrsdorfer - Dittersbacher Schlosspark
DESCRIPTION:Der Bischofswerdaer Wanderverein e.V. lädt für Samstag\, den 12.07.2025\nalle Mitglieder und interessierte Gäste zu einer 8- 10 km langen Rundwegvariante durch das\nLieblingstal zum Belvedere Schöne Höhe ein.\nStart ist 10:00 Uhr auf dem Parkplatz Dürrröhrsdorf (Wendeplatz Bushaltestelle) auf der\nHauptstraße.\nWir gehen entlang eines Baches bergan durch das „Lieblingstal“ zur Schönen Höhe. Das Belvedere\nhat samstags geschlossen\, so dass eine Turmbesteigung leider nicht möglich ist. Ein kurzer Abstecher\nzur Zwergenhöhle / Kaiserstuhl ist eingeplant.\nDie Verpflegung erfolgt aus dem Rucksack.\nDer Wanderverein erhebt für Nichtmitglieder eine Aufwandspauschale von 3.00 €pro Erwachsenen.\nTelefonische Rückfragen gern unter 017650771860
URL:https://www.bischofswerdaer-wanderverein.de/veranstaltung/rund-um-den-duerrroehrsdorfer-dittersbacher-schlosspark/
LOCATION:P+R\, P+R\, Dürrröhrsdorf-Dittersbach\, Sachsen\, 01833
CATEGORIES:Kurzwanderung
ORGANIZER;CN="Bischofswerdaer Wanderverein e.V.":MAILTO:info@bischofswerdaer-wanderverein.de
END:VEVENT
END:VCALENDAR