BEGIN:VCALENDAR
VERSION:2.0
PRODID:-//Bischofswerdaer Wanderverein e.V. - ECPv6.15.12.2//NONSGML v1.0//EN
CALSCALE:GREGORIAN
METHOD:PUBLISH
X-ORIGINAL-URL:https://www.bischofswerdaer-wanderverein.de
X-WR-CALDESC:Veranstaltungen für Bischofswerdaer Wanderverein e.V.
REFRESH-INTERVAL;VALUE=DURATION:PT1H
X-Robots-Tag:noindex
X-PUBLISHED-TTL:PT1H
BEGIN:VTIMEZONE
TZID:Europe/Berlin
BEGIN:DAYLIGHT
TZOFFSETFROM:+0100
TZOFFSETTO:+0200
TZNAME:CEST
DTSTART:20250330T010000
END:DAYLIGHT
BEGIN:STANDARD
TZOFFSETFROM:+0200
TZOFFSETTO:+0100
TZNAME:CET
DTSTART:20251026T010000
END:STANDARD
BEGIN:DAYLIGHT
TZOFFSETFROM:+0100
TZOFFSETTO:+0200
TZNAME:CEST
DTSTART:20260329T010000
END:DAYLIGHT
BEGIN:STANDARD
TZOFFSETFROM:+0200
TZOFFSETTO:+0100
TZNAME:CET
DTSTART:20261025T010000
END:STANDARD
BEGIN:DAYLIGHT
TZOFFSETFROM:+0100
TZOFFSETTO:+0200
TZNAME:CEST
DTSTART:20270328T010000
END:DAYLIGHT
BEGIN:STANDARD
TZOFFSETFROM:+0200
TZOFFSETTO:+0100
TZNAME:CET
DTSTART:20271031T010000
END:STANDARD
END:VTIMEZONE
BEGIN:VEVENT
DTSTART;VALUE=DATE:20260502
DTEND;VALUE=DATE:20260503
DTSTAMP:20260419T194532
CREATED:20260419T090615Z
LAST-MODIFIED:20260419T090615Z
UID:3316-1777680000-1777766399@www.bischofswerdaer-wanderverein.de
SUMMARY:Von Pommritz über den Czorneboh zum Hochstein
DESCRIPTION:Der Bischofswerdaer Wanderverein e.V. lädt am Samstag\, dem 2. Mai 2026\,\nalle Mitglieder und interessierte Gäste zu einer Sportwanderung über 22 km\nund ca. 500 Hm ein.\nStart ist am Bahnhof Pommritz um 8.30 Uhr (Anreise mit der Bahn ab\nBischofwerda möglich).\nVon dort führt uns der Weg über Steindörfel zum Czorneboh.\nIm Berggasthof wäre eine Rast möglich.\nDann laufen wir weiter über den\nHochstein und zurück über Hochkirch zum Bahnhof Pommritz.\nFür die Tour ist festes Schuhwerk erforderlich.\nBitte die Verpflegung für unterwegs aus dem Rucksack einplanen. Am Ende\nder Wanderung ist keine Einkehrmöglichkeit.\nDer Wanderverein erhebt für Nichtmitglieder einen Aufwandsbeitrag von\n3\,00 € pro Erwachsenen.\nTel. Rückfragen unter 01622821745 (ab 27.4.2026 möglich)
URL:https://www.bischofswerdaer-wanderverein.de/veranstaltung/von-pommritz-ueber-den-czorneboh-zum-hochstein/
LOCATION:02627 Pommritz\, Bahnhof\, Pommritz\, Sachsen\, 02627\, Germany
CATEGORIES:Sportwanderung
ORGANIZER;CN="Bischofswerdaer Wanderverein e.V.":MAILTO:info@bischofswerdaer-wanderverein.de
END:VEVENT
END:VCALENDAR