BEGIN:VCALENDAR
VERSION:2.0
PRODID:-//Bischofswerdaer Wanderverein e.V. - ECPv6.15.12.2//NONSGML v1.0//EN
CALSCALE:GREGORIAN
METHOD:PUBLISH
X-WR-CALNAME:Bischofswerdaer Wanderverein e.V.
X-ORIGINAL-URL:https://www.bischofswerdaer-wanderverein.de
X-WR-CALDESC:Veranstaltungen für Bischofswerdaer Wanderverein e.V.
REFRESH-INTERVAL;VALUE=DURATION:PT1H
X-Robots-Tag:noindex
X-PUBLISHED-TTL:PT1H
BEGIN:VTIMEZONE
TZID:Europe/Berlin
BEGIN:DAYLIGHT
TZOFFSETFROM:+0100
TZOFFSETTO:+0200
TZNAME:CEST
DTSTART:20240331T010000
END:DAYLIGHT
BEGIN:STANDARD
TZOFFSETFROM:+0200
TZOFFSETTO:+0100
TZNAME:CET
DTSTART:20241027T010000
END:STANDARD
BEGIN:DAYLIGHT
TZOFFSETFROM:+0100
TZOFFSETTO:+0200
TZNAME:CEST
DTSTART:20250330T010000
END:DAYLIGHT
BEGIN:STANDARD
TZOFFSETFROM:+0200
TZOFFSETTO:+0100
TZNAME:CET
DTSTART:20251026T010000
END:STANDARD
BEGIN:DAYLIGHT
TZOFFSETFROM:+0100
TZOFFSETTO:+0200
TZNAME:CEST
DTSTART:20260329T010000
END:DAYLIGHT
BEGIN:STANDARD
TZOFFSETFROM:+0200
TZOFFSETTO:+0100
TZNAME:CET
DTSTART:20261025T010000
END:STANDARD
END:VTIMEZONE
BEGIN:VEVENT
DTSTART;TZID=Europe/Berlin:20250615T090000
DTEND;TZID=Europe/Berlin:20250615T170000
DTSTAMP:20260420T084303
CREATED:20250517T090823Z
LAST-MODIFIED:20250517T090823Z
UID:3035-1749978000-1750006800@www.bischofswerdaer-wanderverein.de
SUMMARY:Radtour "ln die Bucksche Schweiz "
DESCRIPTION:Start am 15.6.2025 in Königswartha um 9 Uhr \, Parkplatz Am Kirchplatz\nRückkehr ca. 17 Uhr\nGesamt:  80 km \, wenig Höhenmeter \nWir radeln entlang malerischer Teichlandschaften\, Wälder und Wiesen über Ralbitz\, Döbra und nach Querung der B97 in Bernsdorf nach Hohenbocka.\nNahe der Hohenbockaer Glassandwerke erreichen wir die Bucksche Schweiz mit ihren natürlichem Sandsteinvorkommen. Wir genießen den Ausblick vom Aussichtsturm und gelangen nach kurzer Rast über Hosena\, Lauta zum Erlebnishof Krabatmühle nach Schwarzkollm. Dort besteht die Möglichkeit einer längeren Pause und einer Besichtigung der Schwarzen Mühle. Der Rückweg verläuft über zahlreiche Fischteiche am Dubringer Moor und weiter über Wittichenau zurück zu den Königswartha`er Teichen. \nMögliche Pausen an den Fischteichen laden zu Beobachtungen der Vogelwelt ein. Mit etwas Glück werden wir auch auf Seeadler aufmerksam. \nSnacks und Getränke sollten mit im Gepäck dabei sein. Mehrere Möglichkeiten für einen Imbiß wären besonders auf dem Rückweg von Hohenbocka aus möglich.\nWir radeln auf wenig befahrenen Landstraßen bzw. auf geschotterten Wirtschaftswegen der Fischzuchtbetriebe.\nBitte Voranmeldung unter 0160 5456009 bei Dieter Miersch. \nDas ist eine Veranstaltung des Bischofswerda`er Wandervereins\, d.h. es wird eine Aufwandsentschädigung von 3\,00 EUR je Teilnehmer (betrifft Nicht-Vereinsmitglied) fällig.
URL:https://www.bischofswerdaer-wanderverein.de/veranstaltung/radtour-ln-die-bucksche-schweiz/
LOCATION:Parkplatz\, Königswartha\, Hauptstraße 26a\, Hauptstraße 26a\, Königswartha\, Sachsen\, 02699\, Germany
CATEGORIES:Radwanderung
ORGANIZER;CN="Bischofswerdaer Wanderverein e.V.":MAILTO:info@bischofswerdaer-wanderverein.de
END:VEVENT
END:VCALENDAR