BEGIN:VCALENDAR
VERSION:2.0
PRODID:-//Bischofswerdaer Wanderverein e.V. - ECPv6.15.12.2//NONSGML v1.0//EN
CALSCALE:GREGORIAN
METHOD:PUBLISH
X-ORIGINAL-URL:https://www.bischofswerdaer-wanderverein.de
X-WR-CALDESC:Veranstaltungen für Bischofswerdaer Wanderverein e.V.
REFRESH-INTERVAL;VALUE=DURATION:PT1H
X-Robots-Tag:noindex
X-PUBLISHED-TTL:PT1H
BEGIN:VTIMEZONE
TZID:Europe/Berlin
BEGIN:DAYLIGHT
TZOFFSETFROM:+0100
TZOFFSETTO:+0200
TZNAME:CEST
DTSTART:20240331T010000
END:DAYLIGHT
BEGIN:STANDARD
TZOFFSETFROM:+0200
TZOFFSETTO:+0100
TZNAME:CET
DTSTART:20241027T010000
END:STANDARD
BEGIN:DAYLIGHT
TZOFFSETFROM:+0100
TZOFFSETTO:+0200
TZNAME:CEST
DTSTART:20250330T010000
END:DAYLIGHT
BEGIN:STANDARD
TZOFFSETFROM:+0200
TZOFFSETTO:+0100
TZNAME:CET
DTSTART:20251026T010000
END:STANDARD
BEGIN:DAYLIGHT
TZOFFSETFROM:+0100
TZOFFSETTO:+0200
TZNAME:CEST
DTSTART:20260329T010000
END:DAYLIGHT
BEGIN:STANDARD
TZOFFSETFROM:+0200
TZOFFSETTO:+0100
TZNAME:CET
DTSTART:20261025T010000
END:STANDARD
END:VTIMEZONE
BEGIN:VEVENT
DTSTART;VALUE=DATE:20250426
DTEND;VALUE=DATE:20250427
DTSTAMP:20260420T114012
CREATED:20250402T182940Z
LAST-MODIFIED:20250402T182940Z
UID:2982-1745625600-1745711999@www.bischofswerdaer-wanderverein.de
SUMMARY:Von Arnsdorf durch den Karswald
DESCRIPTION:Der Bischofswerdaer Wanderverein e.V. lädt am Samstag\, dem 26.04.2025 seine Mitglieder und\ninteressierte Gäste recht herzlich zu einer Kurzwanderung durch den Karswald ein.\nWir treffen uns 8.30 Uhr auf dem Parkplatz Clara-Zetkin-Straße in Bischofswerda und fahren\nmit dem eigenen PKW nach Arnsdorf/Bahnhof.\nVon hier startet die ca.10 km lange Tour durch den Karswald.\nDie Verpflegung unterwegs erfolgt aus dem Rucksack.\nDer Wanderverein erhebt für Nichtmitglieder einen Aufwandsbeitrag von 3\,00 Euro pro\nErwachsenen.\nTelefonische Rückfragen sind unter 03594/251915 oder 03594/7090858 möglich.
URL:https://www.bischofswerdaer-wanderverein.de/veranstaltung/von-arnsdorf-durch-den-karswald/
CATEGORIES:Kurzwanderung
ORGANIZER;CN="Bischofswerdaer Wanderverein e.V.":MAILTO:info@bischofswerdaer-wanderverein.de
END:VEVENT
END:VCALENDAR