BEGIN:VCALENDAR
VERSION:2.0
PRODID:-//Bischofswerdaer Wanderverein e.V. - ECPv6.15.12.2//NONSGML v1.0//EN
CALSCALE:GREGORIAN
METHOD:PUBLISH
X-WR-CALNAME:Bischofswerdaer Wanderverein e.V.
X-ORIGINAL-URL:https://www.bischofswerdaer-wanderverein.de
X-WR-CALDESC:Veranstaltungen für Bischofswerdaer Wanderverein e.V.
REFRESH-INTERVAL;VALUE=DURATION:PT1H
X-Robots-Tag:noindex
X-PUBLISHED-TTL:PT1H
BEGIN:VTIMEZONE
TZID:Europe/Berlin
BEGIN:DAYLIGHT
TZOFFSETFROM:+0100
TZOFFSETTO:+0200
TZNAME:CEST
DTSTART:20240331T010000
END:DAYLIGHT
BEGIN:STANDARD
TZOFFSETFROM:+0200
TZOFFSETTO:+0100
TZNAME:CET
DTSTART:20241027T010000
END:STANDARD
BEGIN:DAYLIGHT
TZOFFSETFROM:+0100
TZOFFSETTO:+0200
TZNAME:CEST
DTSTART:20250330T010000
END:DAYLIGHT
BEGIN:STANDARD
TZOFFSETFROM:+0200
TZOFFSETTO:+0100
TZNAME:CET
DTSTART:20251026T010000
END:STANDARD
BEGIN:DAYLIGHT
TZOFFSETFROM:+0100
TZOFFSETTO:+0200
TZNAME:CEST
DTSTART:20260329T010000
END:DAYLIGHT
BEGIN:STANDARD
TZOFFSETFROM:+0200
TZOFFSETTO:+0100
TZNAME:CET
DTSTART:20261025T010000
END:STANDARD
END:VTIMEZONE
BEGIN:VEVENT
DTSTART;TZID=Europe/Berlin:20250608T074500
DTEND;TZID=Europe/Berlin:20250608T163000
DTSTAMP:20260420T095145
CREATED:20250514T191213Z
LAST-MODIFIED:20250514T191213Z
UID:3031-1749368700-1749400200@www.bischofswerdaer-wanderverein.de
SUMMARY:Rund um Holzhau (Erzgebirge)
DESCRIPTION:Am Pfingstsonntag\, 8. Juni 2025\, lädt der Bischofswerdaer Wanderverein e.V. seine Mitglieder und\nGäste herzlich zu einer Kurzwanderung von ca. 10 km nach Holzhau ein.\nWir treffen uns 7.45 Uhr auf dem Bahnhof in Bischofswerda und fahren 7.56 Uhr mit dem Zug nach\nDresden\, weiter nach Freiberg. Dort steigen wir in den Zug nach Holzhau um.\nUnser Weg führt uns auf die 806 m hohe Steinkuppe. Der Rückweg erfolgt über die Battlecke zur\nFischerbaude und zurück zum Bahnhof.\nDie Abfahrt ist für 16.34 Uhr geplant. Ankunft in Bischofswerda ist 19.00 Uhr.\nWir genießen die Ruhe in der Natur und erfreuen uns an schönen Aussichten. Die Verpflegung\nerfolgt aus dem Rucksack.\nDer Wanderverein erhebt für Nichtmitglieder einen Aufwandsbeitrag von 3\,00 Euro pro\nErwachsenen.\nRückfragen sind unter der Tel.-Nr. 01747837203 möglich.
URL:https://www.bischofswerdaer-wanderverein.de/veranstaltung/rund-um-holzhau-erzgebirge/
CATEGORIES:Kurzwanderung
ORGANIZER;CN="Bischofswerdaer Wanderverein e.V.":MAILTO:info@bischofswerdaer-wanderverein.de
END:VEVENT
END:VCALENDAR